BEGIN:VCALENDAR
VERSION:2.0
PRODID:-//LUCA - ECPv6.15.17.1//NONSGML v1.0//EN
CALSCALE:GREGORIAN
METHOD:PUBLISH
X-ORIGINAL-URL:https://luca.amsterdam
X-WR-CALDESC:Evenementen voor LUCA
REFRESH-INTERVAL;VALUE=DURATION:PT1H
X-Robots-Tag:noindex
X-PUBLISHED-TTL:PT1H
BEGIN:VTIMEZONE
TZID:Europe/Amsterdam
BEGIN:DAYLIGHT
TZOFFSETFROM:+0100
TZOFFSETTO:+0200
TZNAME:CEST
DTSTART:20250330T010000
END:DAYLIGHT
BEGIN:STANDARD
TZOFFSETFROM:+0200
TZOFFSETTO:+0100
TZNAME:CET
DTSTART:20251026T010000
END:STANDARD
BEGIN:DAYLIGHT
TZOFFSETFROM:+0100
TZOFFSETTO:+0200
TZNAME:CEST
DTSTART:20260329T010000
END:DAYLIGHT
BEGIN:STANDARD
TZOFFSETFROM:+0200
TZOFFSETTO:+0100
TZNAME:CET
DTSTART:20261025T010000
END:STANDARD
BEGIN:DAYLIGHT
TZOFFSETFROM:+0100
TZOFFSETTO:+0200
TZNAME:CEST
DTSTART:20270328T010000
END:DAYLIGHT
BEGIN:STANDARD
TZOFFSETFROM:+0200
TZOFFSETTO:+0100
TZNAME:CET
DTSTART:20271031T010000
END:STANDARD
END:VTIMEZONE
BEGIN:VEVENT
DTSTART;VALUE=DATE:20260324
DTEND;VALUE=DATE:20260325
DTSTAMP:20260422T072716
CREATED:20260217T144947Z
LAST-MODIFIED:20260320T172409Z
UID:7300-1774310400-1774396799@luca.amsterdam
SUMMARY:Les tot 12.15 uur
DESCRIPTION:
URL:https://luca.amsterdam/agenda-item/les-tot-12-15-uur-9/
END:VEVENT
BEGIN:VEVENT
DTSTART;VALUE=DATE:20260330
DTEND;VALUE=DATE:20260331
DTSTAMP:20260422T072716
CREATED:20260217T144947Z
LAST-MODIFIED:20260320T172410Z
UID:7301-1774828800-1774915199@luca.amsterdam
SUMMARY:Les tot 12.15 uur
DESCRIPTION:
URL:https://luca.amsterdam/agenda-item/les-tot-12-15-uur-10/
END:VEVENT
END:VCALENDAR