BEGIN:VCALENDAR
VERSION:2.0
PRODID:-//LUCA - ECPv6.15.17.1//NONSGML v1.0//EN
CALSCALE:GREGORIAN
METHOD:PUBLISH
X-WR-CALNAME:LUCA
X-ORIGINAL-URL:https://luca.amsterdam
X-WR-CALDESC:Evenementen voor LUCA
REFRESH-INTERVAL;VALUE=DURATION:PT1H
X-Robots-Tag:noindex
X-PUBLISHED-TTL:PT1H
BEGIN:VTIMEZONE
TZID:Europe/Amsterdam
BEGIN:DAYLIGHT
TZOFFSETFROM:+0100
TZOFFSETTO:+0200
TZNAME:CEST
DTSTART:20240331T010000
END:DAYLIGHT
BEGIN:STANDARD
TZOFFSETFROM:+0200
TZOFFSETTO:+0100
TZNAME:CET
DTSTART:20241027T010000
END:STANDARD
BEGIN:DAYLIGHT
TZOFFSETFROM:+0100
TZOFFSETTO:+0200
TZNAME:CEST
DTSTART:20250330T010000
END:DAYLIGHT
BEGIN:STANDARD
TZOFFSETFROM:+0200
TZOFFSETTO:+0100
TZNAME:CET
DTSTART:20251026T010000
END:STANDARD
BEGIN:DAYLIGHT
TZOFFSETFROM:+0100
TZOFFSETTO:+0200
TZNAME:CEST
DTSTART:20260329T010000
END:DAYLIGHT
BEGIN:STANDARD
TZOFFSETFROM:+0200
TZOFFSETTO:+0100
TZNAME:CET
DTSTART:20261025T010000
END:STANDARD
END:VTIMEZONE
BEGIN:VEVENT
DTSTART;VALUE=DATE:20251110
DTEND;VALUE=DATE:20251111
DTSTAMP:20260422T090557
CREATED:20250917T073929Z
LAST-MODIFIED:20260320T172409Z
UID:5930-1762732800-1762819199@luca.amsterdam
SUMMARY:Les tot 12.15 uur
DESCRIPTION:
URL:https://luca.amsterdam/agenda-item/les-tot-12-15-uur-5/
END:VEVENT
BEGIN:VEVENT
DTSTART;VALUE=DATE:20251030
DTEND;VALUE=DATE:20251031
DTSTAMP:20260422T090557
CREATED:20250917T073929Z
LAST-MODIFIED:20260320T172409Z
UID:5929-1761782400-1761868799@luca.amsterdam
SUMMARY:Les tot 12.15 uur
DESCRIPTION:
URL:https://luca.amsterdam/agenda-item/les-tot-12-15-uur-4/
END:VEVENT
BEGIN:VEVENT
DTSTART;VALUE=DATE:20251028
DTEND;VALUE=DATE:20251029
DTSTAMP:20260422T090557
CREATED:20250917T073929Z
LAST-MODIFIED:20260320T172409Z
UID:5928-1761609600-1761695999@luca.amsterdam
SUMMARY:Les tot 12.15 uur
DESCRIPTION:
URL:https://luca.amsterdam/agenda-item/les-tot-12-15-uur-3/
END:VEVENT
BEGIN:VEVENT
DTSTART;VALUE=DATE:20251027
DTEND;VALUE=DATE:20251028
DTSTAMP:20260422T090557
CREATED:20250917T073929Z
LAST-MODIFIED:20260320T172409Z
UID:5927-1761523200-1761609599@luca.amsterdam
SUMMARY:Les tot 12.15 uur
DESCRIPTION:
URL:https://luca.amsterdam/agenda-item/les-tot-12-15-uur-2/
END:VEVENT
BEGIN:VEVENT
DTSTART;VALUE=DATE:20251020
DTEND;VALUE=DATE:20251025
DTSTAMP:20260422T090557
CREATED:20250917T073929Z
LAST-MODIFIED:20260320T172408Z
UID:5926-1760918400-1761350399@luca.amsterdam
SUMMARY:Herfstvakantie
DESCRIPTION:
URL:https://luca.amsterdam/agenda-item/herfstvakantie-2/
END:VEVENT
BEGIN:VEVENT
DTSTART;VALUE=DATE:20250930
DTEND;VALUE=DATE:20251001
DTSTAMP:20260422T090557
CREATED:20250917T073928Z
LAST-MODIFIED:20260320T172408Z
UID:5925-1759190400-1759276799@luca.amsterdam
SUMMARY:Les tot 12.15 uur
DESCRIPTION:
URL:https://luca.amsterdam/agenda-item/les-tot-12-15-uur/
END:VEVENT
BEGIN:VEVENT
DTSTART;VALUE=DATE:20250922
DTEND;VALUE=DATE:20250923
DTSTAMP:20260422T090557
CREATED:20241003T150053Z
LAST-MODIFIED:20250822T084352Z
UID:5072-1758499200-1758585599@luca.amsterdam
SUMMARY:Portfolio-IOP-gesprekken
DESCRIPTION:
URL:https://luca.amsterdam/agenda-item/portfolio-iop-gesprekken-3/
END:VEVENT
BEGIN:VEVENT
DTSTART;VALUE=DATE:20250916
DTEND;VALUE=DATE:20250917
DTSTAMP:20260422T090557
CREATED:20260123T002051Z
LAST-MODIFIED:20260123T002051Z
UID:6327-1757980800-1758067199@luca.amsterdam
SUMMARY:Lesvrije dag
DESCRIPTION:
URL:https://luca.amsterdam/agenda-item/lesvrije-dag-3/
END:VEVENT
BEGIN:VEVENT
DTSTART;VALUE=DATE:20250916
DTEND;VALUE=DATE:20250917
DTSTAMP:20260422T090557
CREATED:20260123T002051Z
LAST-MODIFIED:20260320T172408Z
UID:6326-1757980800-1758067199@luca.amsterdam
SUMMARY:Lesvrije dag
DESCRIPTION:
URL:https://luca.amsterdam/agenda-item/lesvrije-dag-2/
END:VEVENT
BEGIN:VEVENT
DTSTART;VALUE=DATE:20250714
DTEND;VALUE=DATE:20250823
DTSTAMP:20260422T090557
CREATED:20241003T150053Z
LAST-MODIFIED:20250107T085516Z
UID:5073-1752451200-1755907199@luca.amsterdam
SUMMARY:Zomervakantie t/m 22 augustus
DESCRIPTION:
URL:https://luca.amsterdam/agenda-item/zomervakantie-t-m-22-augustus/
END:VEVENT
BEGIN:VEVENT
DTSTART;VALUE=DATE:20250703
DTEND;VALUE=DATE:20250704
DTSTAMP:20260422T090557
CREATED:20241003T150053Z
LAST-MODIFIED:20250107T085516Z
UID:5070-1751500800-1751587199@luca.amsterdam
SUMMARY:Diploma-uitreiking
DESCRIPTION:
URL:https://luca.amsterdam/agenda-item/diploma-uitreiking/
END:VEVENT
END:VCALENDAR